Workbook

Sheet Sheet1
A1: KPK PRINT – BEACHFLAG KALKULAČKA
A2: Vyberte vlajku, prút a podstavec. Cena sa prepočíta automaticky.
A4: Typ ceny | B4: VO | C4: EUR = bežná cena | VO = veľkoobchodná
A6: Komponent | B6: Výber | C6: Cena/ks bez DPH | D6: Množstvo
A7: Vlajka | B7: Standard M – 3,4 m – zrkadlený motív | C7: =IFERROR(VLOOKUP($B$7,Výbery!$A$2:$D$16,IF($B$4="VO",2,3),FALSE),0) -> 32 | D7: 1
A10: Prút | B10: Prút Standard M – 3,4 m | C10: =IFERROR(VLOOKUP($B$10,Výbery!$F$2:$I$9,IF($B$4="VO",2,3),FALSE),0) -> 25 | D10: 1
A13: Podstavec / bodec | B13: Bodec do zeme | C13: =IFERROR(VLOOKUP($B$13,Výbery!$K$2:$N$11,IF($B$4="VO",2,3),FALSE),0) -> 14 | D13: 1
A15: Doplnok | B15: Bez doplnku | C15: =IFERROR(VLOOKUP($B$15,Výbery!$P$2:$S$3,IF($B$4="VO",2,3),FALSE),0) -> 0 | D15: 1
A17: Kontrola | B17: =IFERROR(IF($B$7="Bez vlajky","Samostatný prút, podstavec alebo doplnok",IF($B$10="Bez prúta","Vyberte prút k beachflagu",IF(VLOOKUP($B$7,Výbery!$A$2:$D$16,4,FALSE)=VLOOKUP($B$10,Výbery!$F$2:$I$9,4,FALSE),"✓ Vlajka a prút sú kompatibilné","⚠ Skontrolujte typ a rozmer vlajky a prúta"))),"Skontrolujte výber") -> ✓ Vlajka a prút sú kompatibilné
A19: Cena spolu bez DPH | D19: =C7*D7+C10*D10+C13*D13+C15*D15 -> 71
A20: DPH 23 % | D20: =D19*23% -> 16.33
A21: CENA SPOLU S DPH | D21: =D19+D20 -> 87.33
A23: Žlté polia sú určené na výber a množstvo. Pri položkách m² a bm možno zadať aj desatinné množstvo. Ceny sú bez 23 % DPH.
A27: BEACH FLAG - Firemné, mestské, športové vlajky od KPK Print s.r.o. v.2.0
A28: www.kpkprint.sk
A29: www.pirntexpert.sk
A30: Prút bez vlajky | B30: rozmer | D30: VO | E30: EUR
A31: prút - Standard S | B31: 2,8M | D31: 23 | E31: =SUM(D31*1.6) -> 36.8
A32: prút - Standard M | B32: 3,4M | D32: 25 | E32: =SUM(D32*1.6) -> 40
A33: prút - Standard L | B33: 4,5M | D33: 27.5 | E33: =SUM(D33*1.6) -> 44
A34: prút - Standard XL | B34: 5,5M | D34: 38 | E34: =SUM(D34*1.6) -> 60.8
A35: prút - OBDĹŽNIKOÁ VLAJKA S | B35: 2,7M | D35: 22.5 | E35: =SUM(D35*1.6) -> 36
A36: prút - OBDĹŽNIKOÁ VLAJKA M | B36: 3,3M | D36: 30 | E36: =SUM(D36*1.6) -> 48
A37: prút - OBDĹŽNIKOÁ VLAJKA L | B37: 4,3M | D37: 38 | E37: =SUM(D37*1.6) -> 60.8
A39: Podstvace | B39: rozmer | D39: VO | E39: EUR
A40: bodec do zeme | D40: 14 | E40: 26
A41: krížový podstavec | B41: 60cm | D41: 25 | E41: =SUM(D41*1.65) -> 41.25
A42: krížový podstavec | B42: 72cm | D42: 27 | E42: =SUM(D42*1.65) -> 44.55
A43: krížový podstavec | B43: 82cm | D43: 30 | E43: =SUM(D43*1.65) -> 49.5
A44: kovová platňa 6kg | D44: 29 | E44: =SUM(D44*1.65) -> 47.85
A45: kovová platna 12kg | D45: 65 | E45: =SUM(D45*1.65) -> 107.25
A46: barel na vodu 20kg s rotátorom | D46: 25 | E46: =SUM(D46*1.65) -> 41.25
A47: vrták do zeme | D47: 30 | E47: =SUM(D47*1.65) -> 49.5
A48: V pod koleso auta s rotátorom | D48: 25 | E48: =SUM(D48*1.65) -> 41.25
A49: vak na vodu 8l ku kovovej platni | D49: 10 | E49: =SUM(D49*1.65) -> 16.5
A52: Textilná vlajka typu beachflag/výber tvarov/ | B52: rozmer | C52: jednostranna/ obojstranna | D52: VO | E52: EUR
A53: vlajka samostatná | B53: 2,8M | C53: obojstranná /zrkadlený motív | D53: 26 | E53: =SUM(D53*1.65) -> 42.9
A54: vlajka samostatná | B54: 3,4M | C54: obojstranná /zrkadlený motív | D54: 32 | E54: =SUM(D54*1.65) -> 52.8
A55: vlajka samostatná | B55: 4,5M | C55: obojstranná /zrkadlený motív | D55: 48 | E55: =SUM(D55*1.65) -> 79.2
A56: vlajka samostatná | B56: 5,5M | C56: obojstranná /zrkadlený motív | D56: 62 | E56: =SUM(D56*1.65) -> 102.3
...

Sheet Výbery
A1: Vlajka | B1: VO | C1: EUR | D1: Kód kompatibility | F1: Prút | G1: VO | H1: EUR | I1: Kód kompatibility | K1: Podstavec / bodec | L1: VO | M1: EUR | N1: Kód | P1: Doplnok | Q1: VO | R1: EUR | S1: Kód
A2: Bez vlajky | B2: 0 | C2: 0 | D2: NONE | F2: Bez prúta | G2: 0 | H2: 0 | I2: NONE | K2: Bez podstavca | L2: 0 | M2: 0 | N2: NONE | P2: Bez doplnku | Q2: 0 | R2: 0 | S2: NONE
A3: Standard S – 2,8 m – zrkadlený motív | B3: =Sheet1!$D$53 -> 26 | C3: =Sheet1!$E$53 -> 42.9 | D3: STD-S | F3: Prút Standard S – 2,8 m | G3: =Sheet1!$D$31 -> 23 | H3: =Sheet1!$E$31 -> 36.8 | I3: STD-S | K3: Bodec do zeme | L3: =Sheet1!$D$40 -> 14 | M3: =Sheet1!$E$40 -> 26 | N3: BODEC | P3: Vak na vodu 8 l ku kovovej platni | Q3: =Sheet1!$D$49 -> 10 | R3: =Sheet1!$E$49 -> 16.5 | S3: VAK-8
A4: Standard M – 3,4 m – zrkadlený motív | B4: =Sheet1!$D$54 -> 32 | C4: =Sheet1!$E$54 -> 52.8 | D4: STD-M | F4: Prút Standard M – 3,4 m | G4: =Sheet1!$D$32 -> 25 | H4: =Sheet1!$E$32 -> 40 | I4: STD-M | K4: Krížový podstavec 60 cm | L4: =Sheet1!$D$41 -> 25 | M4: =Sheet1!$E$41 -> 41.25 | N4: KRIZ-60
A5: Standard L – 4,5 m – zrkadlený motív | B5: =Sheet1!$D$55 -> 48 | C5: =Sheet1!$E$55 -> 79.2 | D5: STD-L | F5: Prút Standard L – 4,5 m | G5: =Sheet1!$D$33 -> 27.5 | H5: =Sheet1!$E$33 -> 44 | I5: STD-L | K5: Krížový podstavec 72 cm | L5: =Sheet1!$D$42 -> 27 | M5: =Sheet1!$E$42 -> 44.55 | N5: KRIZ-72
A6: Standard XL – 5,5 m – zrkadlený motív | B6: =Sheet1!$D$56 -> 62 | C6: =Sheet1!$E$56 -> 102.3 | D6: STD-XL | F6: Prút Standard XL – 5,5 m | G6: =Sheet1!$D$34 -> 38 | H6: =Sheet1!$E$34 -> 60.8 | I6: STD-XL | K6: Krížový podstavec 82 cm | L6: =Sheet1!$D$43 -> 30 | M6: =Sheet1!$E$43 -> 49.5 | N6: KRIZ-82
A7: Obdĺžnik S – 2,7 m – zrkadlený motív | B7: =Sheet1!$D$57 -> 28 | C7: =Sheet1!$E$57 -> 46.2 | D7: OBD-S | F7: Prút obdĺžnik S – 2,7 m | G7: =Sheet1!$D$35 -> 22.5 | H7: =Sheet1!$E$35 -> 36 | I7: OBD-S | K7: Kovová platňa 6 kg | L7: =Sheet1!$D$44 -> 29 | M7: =Sheet1!$E$44 -> 47.85 | N7: PLATNA-6
A8: Obdĺžnik M – 3,3 m – zrkadlený motív | B8: =Sheet1!$D$58 -> 38 | C8: =Sheet1!$E$58 -> 62.7 | D8: OBD-M | F8: Prút obdĺžnik M – 3,3 m | G8: =Sheet1!$D$36 -> 30 | H8: =Sheet1!$E$36 -> 48 | I8: OBD-M | K8: Kovová platňa 12 kg | L8: =Sheet1!$D$45 -> 65 | M8: =Sheet1!$E$45 -> 107.25 | N8: PLATNA-12
A9: Obdĺžnik L – 4,3 m – zrkadlený motív | B9: =Sheet1!$D$59 -> 60 | C9: =Sheet1!$E$59 -> 99 | D9: OBD-L | F9: Prút obdĺžnik L – 4,3 m | G9: =Sheet1!$D$37 -> 38 | H9: =Sheet1!$E$37 -> 60.8 | I9: OBD-L | K9: Barel na vodu 20 kg s rotátorom | L9: =Sheet1!$D$46 -> 25 | M9: =Sheet1!$E$46 -> 41.25 | N9: BAREL
A10: Standard S – 2,8 m – obojstranná / iný motív | B10: =Sheet1!$D$62 -> 52 | C10: =Sheet1!$E$62 -> 85.8 | D10: STD-S | K10: Vrták do zeme | L10: =Sheet1!$D$47 -> 30 | M10: =Sheet1!$E$47 -> 49.5 | N10: VRTAK
A11: Standard M – 3,4 m – obojstranná / iný motív | B11: =Sheet1!$D$63 -> 66 | C11: =Sheet1!$E$63 -> 108.9 | D11: STD-M | K11: Podstavec pod koleso auta s rotátorom | L11: =Sheet1!$D$48 -> 25 | M11: =Sheet1!$E$48 -> 41.25 | N11: AUTO
A12: Standard L – 4,5 m – obojstranná / iný motív | B12: =Sheet1!$D$64 -> 110 | C12: =Sheet1!$E$64 -> 181.5 | D12: STD-L
A13: Standard XL – 5,5 m – obojstranná / iný motív | B13: =Sheet1!$D$65 -> 124 | C13: =Sheet1!$E$65 -> 204.6 | D13: STD-XL
A14: Obdĺžnik S – 2,7 m – obojstranná / iný motív | B14: =Sheet1!$D$66 -> 52 | C14: =Sheet1!$E$66 -> 85.8 | D14: OBD-S
A15: Obdĺžnik M – 3,3 m – obojstranná / iný motív | B15: =Sheet1!$D$67 -> 74 | C15: =Sheet1!$E$67 -> 122.1 | D15: OBD-M
A16: Obdĺžnik L – 4,3 m – obojstranná / iný motív | B16: =Sheet1!$D$68 -> 120 | C16: =Sheet1!$E$68 -> 198 | D16: OBD-L
